BEGIN:VCALENDAR
VERSION:2.0
PRODID:SchoolNow
CALSCALE:GREGORIAN
BEGIN:VEVENT
UID:43d385f8-5881-11ee-b8ea-0a58a9feac02
DTSTAMP:20230921T131750Z
SUMMARY:School closed for Thanksgiving holiday
URL;VALUE=URI:https://www.hunterdonprep.org/calendar/4771620/school-closed-
 for-thanksgiving-holiday
DTSTART;VALUE=DATE:20231123
DTEND;VALUE=DATE:20231125
END:VEVENT
END:VCALENDAR
