BEGIN:VCALENDAR
VERSION:2.0
PRODID:SchoolNow
CALSCALE:GREGORIAN
BEGIN:VEVENT
UID:36c5f9d6-5881-11ee-876e-0a7bebc89169
DTSTAMP:20230921T131728Z
SUMMARY:Early dismissal at 12:30
URL;VALUE=URI:https://www.hunterdonprep.org/calendar/4771619/early-dismissa
 l-at-12-30
DTSTART;VALUE=DATE:20231122
DTEND;VALUE=DATE:20231123
END:VEVENT
END:VCALENDAR
