BEGIN:VCALENDAR
VERSION:2.0
PRODID:SchoolNow
CALSCALE:GREGORIAN
BEGIN:VEVENT
UID:2a144684-5881-11ee-ad99-0a7bebc89169
DTSTAMP:20231116T194634Z
SUMMARY:HPS Thanksgiving luncheon/concert
URL;VALUE=URI:https://www.hunterdonprep.org/calendar/4771618/hps-thanksgivi
 ng
DTSTART:20231121T170000Z
DTEND:20231121T193000Z
END:VEVENT
END:VCALENDAR
