BEGIN:VCALENDAR
VERSION:2.0
PRODID:SchoolNow
CALSCALE:GREGORIAN
BEGIN:VEVENT
UID:1b6ef37c-5881-11ee-944a-0ec9f26cdb77
DTSTAMP:20230921T131642Z
SUMMARY:School closed (NJEA Teacher's Convention)
URL;VALUE=URI:https://www.hunterdonprep.org/calendar/4771617/school-closed-
 njea-teachers-convention
DTSTART;VALUE=DATE:20231109
DTEND;VALUE=DATE:20231111
END:VEVENT
END:VCALENDAR
