BEGIN:VCALENDAR
VERSION:2.0
PRODID:SchoolNow
CALSCALE:GREGORIAN
BEGIN:VEVENT
UID:fcfaba5c-5880-11ee-a70c-0a58a9feac02
DTSTAMP:20230921T131551Z
SUMMARY:1st marking period ends
URL;VALUE=URI:https://www.hunterdonprep.org/calendar/4771616/1st-marking-pe
 riod-ends
DTSTART;VALUE=DATE:20231108
DTEND;VALUE=DATE:20231109
END:VEVENT
END:VCALENDAR
