BEGIN:VCALENDAR
VERSION:2.0
PRODID:SchoolNow
CALSCALE:GREGORIAN
BEGIN:VEVENT
UID:c5fcb758-5880-11ee-b08f-0a58a9feac02
DTSTAMP:20230921T131419Z
SUMMARY:Baking class trip (2:30-6:00 PM)
URL;VALUE=URI:https://www.hunterdonprep.org/calendar/4771614/baking-class-t
 rip-2-30-6-00-pm
DTSTART:20231107T193000Z
DTEND:20231107T230000Z
END:VEVENT
END:VCALENDAR
