BEGIN:VCALENDAR
VERSION:2.0
PRODID:SchoolNow
CALSCALE:GREGORIAN
BEGIN:VEVENT
UID:abb93b32-5880-11ee-bd1c-0ec9f26cdb77
DTSTAMP:20230921T131335Z
SUMMARY:NJGPA testing (10/10-10/16)
URL;VALUE=URI:https://www.hunterdonprep.org/calendar/4771613/njgpa-testing-
 10-10-10-16
DTSTART:20231016T130000Z
DTEND:20231016T140000Z
END:VEVENT
END:VCALENDAR
