BEGIN:VCALENDAR
VERSION:2.0
PRODID:SchoolNow
CALSCALE:GREGORIAN
BEGIN:VEVENT
UID:67fdfa7c-5880-11ee-aa12-0a4d8e0ae857
DTSTAMP:20230921T131141Z
SUMMARY:HPS Halloween & film festival
URL;VALUE=URI:https://www.hunterdonprep.org/calendar/4771612/hps-halloween-
 film-festival
DTSTART;VALUE=DATE:20231027
DTEND;VALUE=DATE:20231028
END:VEVENT
END:VCALENDAR
