BEGIN:VCALENDAR
VERSION:2.0
PRODID:SchoolNow
CALSCALE:GREGORIAN
BEGIN:VEVENT
UID:5a52300a-5880-11ee-952d-0a58a9feac02
DTSTAMP:20230921T131118Z
SUMMARY:Pizza sale
URL;VALUE=URI:https://www.hunterdonprep.org/calendar/4771611/pizza-sale
DTSTART:20231018T162500Z
DTEND:20231018T172500Z
END:VEVENT
END:VCALENDAR
