BEGIN:VCALENDAR
VERSION:2.0
PRODID:SchoolNow
CALSCALE:GREGORIAN
BEGIN:VEVENT
UID:84e13b10-4cbc-11ee-a51e-02cbacfbd015
DTSTAMP:20230921T123856Z
SUMMARY:Halloween concert
URL;VALUE=URI:https://www.hunterdonprep.org/calendar/4688349/hps-halloween-
 festivities-concert
DTSTART:20231031T163000Z
DTEND:20231031T183000Z
END:VEVENT
END:VCALENDAR
