BEGIN:VCALENDAR
VERSION:2.0
PRODID:SchoolNow
CALSCALE:GREGORIAN
BEGIN:VEVENT
UID:6f3cd06c-4cbc-11ee-b175-0a58a9feac02
DTSTAMP:20231017T152655Z
SUMMARY:PSAT's (11th graders)
URL;VALUE=URI:https://www.hunterdonprep.org/calendar/4688348/psats
DTSTART:20231025T130000Z
DTEND:20231025T160000Z
END:VEVENT
END:VCALENDAR
