BEGIN:VCALENDAR
VERSION:2.0
PRODID:SchoolNow
CALSCALE:GREGORIAN
BEGIN:VEVENT
UID:dc5c426a-2780-11ee-bf0b-02435df4c991
DTSTAMP:20230721T044130Z
SUMMARY:Hunterdon Prep/Realtime Tuition
LOCATION:Microsoft Teams Meeting
URL;VALUE=URI:https://www.hunterdonprep.org/calendar/4505827/hunterdon-prep
 -realtime-tuition
DTSTART:20230621T153000Z
DTEND:20230621T160000Z
END:VEVENT
END:VCALENDAR
