BEGIN:VCALENDAR
VERSION:2.0
PRODID:SchoolNow
CALSCALE:GREGORIAN
BEGIN:VEVENT
UID:dc5c33ba-2780-11ee-b6dd-02435df4c991
DTSTAMP:20230721T044130Z
SUMMARY:IBannnual/30day
URL;VALUE=URI:https://www.hunterdonprep.org/calendar/4505826/ibannnual-30da
 y
DTSTART:20230605T170000Z
DTEND:20230605T173000Z
END:VEVENT
END:VCALENDAR
