BEGIN:VCALENDAR
VERSION:2.0
PRODID:SchoolNow
CALSCALE:GREGORIAN
BEGIN:VEVENT
UID:045b504c-217f-11ee-aeb6-0a33dae03443
DTSTAMP:20230713T131311Z
SUMMARY:Pool day (all day)
URL;VALUE=URI:https://www.hunterdonprep.org/calendar/4494571/pool-day-all-d
 ay
DTSTART;VALUE=DATE:20230727
DTEND;VALUE=DATE:20230728
END:VEVENT
END:VCALENDAR
