BEGIN:VCALENDAR
VERSION:2.0
PRODID:SchoolNow
CALSCALE:GREGORIAN
BEGIN:VEVENT
UID:dc8f1d78-217e-11ee-894a-0a33dae03443
DTSTAMP:20230713T131204Z
SUMMARY:Pool day (all day)
URL;VALUE=URI:https://www.hunterdonprep.org/calendar/4494570/pool-day-all-d
 ay
DTSTART;VALUE=DATE:20230713
DTEND;VALUE=DATE:20230714
END:VEVENT
END:VCALENDAR
