BEGIN:VCALENDAR
VERSION:2.0
PRODID:SchoolNow
CALSCALE:GREGORIAN
BEGIN:VEVENT
UID:9799dfda-0079-11ee-b1b1-02b6d856d775
DTSTAMP:20230601T124112Z
SUMMARY:Delaware Water Gap hike
URL;VALUE=URI:https://www.hunterdonprep.org/calendar/4334476/delaware-water
 -gap-hike
DTSTART:20230607T130000Z
DTEND:20230607T180000Z
END:VEVENT
END:VCALENDAR
