BEGIN:VCALENDAR
VERSION:2.0
PRODID:SchoolNow
CALSCALE:GREGORIAN
BEGIN:VEVENT
UID:580b820c-ff06-11ed-b3f5-0e10929f9545
DTSTAMP:20230530T162343Z
SUMMARY:Raritan Headwaters Watershed Project (classroom)
URL;VALUE=URI:https://www.hunterdonprep.org/calendar/4324598/raritan-headwa
 ters-watershed-project-classroom
DTSTART;VALUE=DATE:20230726
DTEND;VALUE=DATE:20230727
END:VEVENT
END:VCALENDAR
