BEGIN:VCALENDAR
VERSION:2.0
PRODID:SchoolNow
CALSCALE:GREGORIAN
BEGIN:VEVENT
UID:2f957f94-ff06-11ed-8339-0e10929f9545
DTSTAMP:20230530T162235Z
SUMMARY:Raptor's Trust program
URL;VALUE=URI:https://www.hunterdonprep.org/calendar/4324596/raptors-trust-
 program
DTSTART;VALUE=DATE:20230720
DTEND;VALUE=DATE:20230721
END:VEVENT
END:VCALENDAR
