BEGIN:VCALENDAR
VERSION:2.0
PRODID:SchoolNow
CALSCALE:GREGORIAN
BEGIN:VEVENT
UID:191e3058-ff06-11ed-bfcf-0e10929f9545
DTSTAMP:20230530T162157Z
SUMMARY:Summer chickens arrive! <()
URL;VALUE=URI:https://www.hunterdonprep.org/calendar/4324594/summer-chicken
 s-arrive
DTSTART;VALUE=DATE:20230718
DTEND;VALUE=DATE:20230719
END:VEVENT
END:VCALENDAR
