BEGIN:VCALENDAR
VERSION:2.0
PRODID:SchoolNow
CALSCALE:GREGORIAN
BEGIN:VEVENT
UID:5b5e22bc-ee8e-11ed-bbd8-02e651ad3159
DTSTAMP:20230509T172430Z
SUMMARY:After-school club (tie dye)
URL;VALUE=URI:https://www.hunterdonprep.org/calendar/4212758/after-school-c
 lub-tie-dye
DTSTART:20230523T183000Z
DTEND:20230523T203000Z
END:VEVENT
END:VCALENDAR
