BEGIN:VCALENDAR
VERSION:2.0
PRODID:SchoolNow
CALSCALE:GREGORIAN
BEGIN:VEVENT
UID:48d9d866-ee8e-11ed-a57b-02e651ad3159
DTSTAMP:20230509T172359Z
SUMMARY:After-school club (bowling at Oakwood Lanes)
URL;VALUE=URI:https://www.hunterdonprep.org/calendar/4212757/after-school-c
 lub-bowling-at-oakwood-lanes
DTSTART:20230516T183000Z
DTEND:20230516T203000Z
END:VEVENT
END:VCALENDAR
