BEGIN:VCALENDAR
VERSION:2.0
PRODID:SchoolNow
CALSCALE:GREGORIAN
BEGIN:VEVENT
UID:37df17ec-ee8e-11ed-b5da-02e651ad3159
DTSTAMP:20230509T172330Z
SUMMARY:After-school club (musical madness)
URL;VALUE=URI:https://www.hunterdonprep.org/calendar/4212756/after-school-c
 lub-musical-madness
DTSTART:20230509T183000Z
DTEND:20230509T203000Z
END:VEVENT
END:VCALENDAR
