BEGIN:VCALENDAR
VERSION:2.0
PRODID:SchoolNow
CALSCALE:GREGORIAN
BEGIN:VEVENT
UID:1684a602-ee8e-11ed-8a53-02e651ad3159
DTSTAMP:20230509T172234Z
SUMMARY:Hawk Walk to benefit Grow A Row (rescheduled)
URL;VALUE=URI:https://www.hunterdonprep.org/calendar/4212755/hawk-walk-to-b
 enefit-grow-a-row-rescheduled
DTSTART:20230511T170000Z
DTEND:20230511T180000Z
END:VEVENT
END:VCALENDAR
