BEGIN:VCALENDAR
VERSION:2.0
PRODID:SchoolNow
CALSCALE:GREGORIAN
BEGIN:VEVENT
UID:f75324a2-ee8d-11ed-9b89-02e651ad3159
DTSTAMP:20230509T172142Z
SUMMARY:Nest class trip to Liberty Science Center
URL;VALUE=URI:https://www.hunterdonprep.org/calendar/4212754/nest-class-tri
 p-to-liberty-science-center
DTSTART:20230526T130000Z
DTEND:20230526T183000Z
END:VEVENT
END:VCALENDAR
