BEGIN:VCALENDAR
VERSION:2.0
PRODID:SchoolNow
CALSCALE:GREGORIAN
BEGIN:VEVENT
UID:e15c5a56-ee8d-11ed-b6ea-02e651ad3159
DTSTAMP:20230509T172105Z
SUMMARY:Cave class trip to Dorney Park
URL;VALUE=URI:https://www.hunterdonprep.org/calendar/4212753/cave-class-tri
 p-to-dorney-park
DTSTART:20230530T130000Z
DTEND:20230531T180000Z
END:VEVENT
END:VCALENDAR
