BEGIN:VCALENDAR
VERSION:2.0
PRODID:SchoolNow
CALSCALE:GREGORIAN
BEGIN:VEVENT
UID:be370e4a-ee8d-11ed-a3a5-02e651ad3159
DTSTAMP:20230509T172006Z
SUMMARY:3rd marking period honor roll luncheon
URL;VALUE=URI:https://www.hunterdonprep.org/calendar/4212752/3rd-marking-pe
 riod-honor-roll-luncheon
DTSTART:20230515T162500Z
DTEND:20230515T172500Z
END:VEVENT
END:VCALENDAR
