BEGIN:VCALENDAR
VERSION:2.0
PRODID:SchoolNow
CALSCALE:GREGORIAN
BEGIN:VEVENT
UID:abf5b470-ee8d-11ed-926e-02e651ad3159
DTSTAMP:20230509T171936Z
SUMMARY:Hive class trip to Medieval Times
URL;VALUE=URI:https://www.hunterdonprep.org/calendar/4212751/hive-class-tri
 p-to-medieval-times
DTSTART:20230512T130000Z
DTEND:20230512T180000Z
END:VEVENT
END:VCALENDAR
