BEGIN:VCALENDAR
VERSION:2.0
PRODID:SchoolNow
CALSCALE:GREGORIAN
BEGIN:VEVENT
UID:8257b294-ee8d-11ed-b628-02e651ad3159
DTSTAMP:20230509T171826Z
SUMMARY:Nest chicken nugget and fries sale
URL;VALUE=URI:https://www.hunterdonprep.org/calendar/4212750/nest-chicken-n
 ugget-and-fries-sale
DTSTART:20230510T162500Z
DTEND:20230510T172500Z
END:VEVENT
END:VCALENDAR
