BEGIN:VCALENDAR
VERSION:2.0
PRODID:SchoolNow
CALSCALE:GREGORIAN
BEGIN:VEVENT
UID:09544174-de1a-11ed-97d7-02cfe7c0688b
DTSTAMP:20230418T185132Z
SUMMARY:Student awards ceremony
URL;VALUE=URI:https://www.hunterdonprep.org/calendar/4077464/student-awards
 -ceremony
DTSTART:20230531T170500Z
DTEND:20230531T180500Z
END:VEVENT
END:VCALENDAR
