BEGIN:VCALENDAR
VERSION:2.0
PRODID:SchoolNow
CALSCALE:GREGORIAN
BEGIN:VEVENT
UID:ccb856e2-de19-11ed-ba47-02cfe7c0688b
DTSTAMP:20230418T184950Z
SUMMARY:Hawk Walk (in support of Grow a Row)
URL;VALUE=URI:https://www.hunterdonprep.org/calendar/4077463/hawk-walk-in-s
 upport-of-grow-a-row
DTSTART:20230503T170500Z
DTEND:20230503T180500Z
END:VEVENT
END:VCALENDAR
