BEGIN:VCALENDAR
VERSION:2.0
PRODID:SchoolNow
CALSCALE:GREGORIAN
BEGIN:VEVENT
UID:5f346fe4-ccbb-11ed-b511-02b14936a801
DTSTAMP:20230327T162104Z
SUMMARY:Branchburg Sports Complex (for winners of Patriots game fundraiser)
URL;VALUE=URI:https://www.hunterdonprep.org/calendar/3932910/branchburg-spo
 rts-complex-for-winners-of-patriots-game-fundraiser
DTSTART:20230509T140000Z
DTEND:20230509T170000Z
END:VEVENT
END:VCALENDAR
