BEGIN:VCALENDAR
VERSION:2.0
PRODID:SchoolNow
CALSCALE:GREGORIAN
BEGIN:VEVENT
UID:6f6ad030-c8cc-11ed-8417-029ae60ee25d
DTSTAMP:20230322T161308Z
SUMMARY:8th & 12th grade graduation
URL;VALUE=URI:https://www.hunterdonprep.org/calendar/3907520/8th-12th-grade
 -graduation
DTSTART:20230609T143000Z
DTEND:20230609T153000Z
END:VEVENT
END:VCALENDAR
