BEGIN:VCALENDAR
VERSION:2.0
PRODID:SchoolNow
CALSCALE:GREGORIAN
BEGIN:VEVENT
UID:4a12197e-c8cc-11ed-b594-029ae60ee25d
DTSTAMP:20230322T161205Z
SUMMARY:Eyes of the Wild assembly
URL;VALUE=URI:https://www.hunterdonprep.org/calendar/3907519/eyes-of-the-wi
 ld-assembly
DTSTART:20230517T134500Z
DTEND:20230517T144500Z
END:VEVENT
END:VCALENDAR
