BEGIN:VCALENDAR
VERSION:2.0
PRODID:SchoolNow
CALSCALE:GREGORIAN
BEGIN:VEVENT
UID:3c4d4282-c8cc-11ed-9249-029ae60ee25d
DTSTAMP:20230322T161142Z
SUMMARY:HPS Earth Day
URL;VALUE=URI:https://www.hunterdonprep.org/calendar/3907518/hps-earth-day
DTSTART:20230516T170000Z
DTEND:20230516T180000Z
END:VEVENT
END:VCALENDAR
