BEGIN:VCALENDAR
VERSION:2.0
PRODID:SchoolNow
CALSCALE:GREGORIAN
BEGIN:VEVENT
UID:20d94e74-be81-11ed-b968-028e0f31b50f
DTSTAMP:20230309T134852Z
SUMMARY:"From Distant Lands" Ukrainian jazz ensemble assembly
URL;VALUE=URI:https://www.hunterdonprep.org/calendar/3841107/from-distant-l
 ands-ukrainian-jazz-ensemble-assembly
DTSTART:20230310T181500Z
DTEND:20230310T191500Z
END:VEVENT
END:VCALENDAR
