BEGIN:VCALENDAR
VERSION:2.0
PRODID:SchoolNow
CALSCALE:GREGORIAN
BEGIN:VEVENT
UID:7664216e-b915-11ed-a926-0a25e2230b41
DTSTAMP:20230302T161535Z
SUMMARY:Literary Lounge
URL;VALUE=URI:https://www.hunterdonprep.org/calendar/3805415/literary-loung
 e
DTSTART:20230331T170500Z
DTEND:20230331T182500Z
END:VEVENT
END:VCALENDAR
