BEGIN:VCALENDAR
VERSION:2.0
PRODID:SchoolNow
CALSCALE:GREGORIAN
BEGIN:VEVENT
UID:e63f5dec-b914-11ed-abf9-0a25e2230b41
DTSTAMP:20230302T161148Z
SUMMARY:Nest bake sale
URL;VALUE=URI:https://www.hunterdonprep.org/calendar/3805414/nest-bake-sale
DTSTART:20230322T154500Z
DTEND:20230322T164500Z
END:VEVENT
END:VCALENDAR
