BEGIN:VCALENDAR
VERSION:2.0
PRODID:SchoolNow
CALSCALE:GREGORIAN
BEGIN:VEVENT
UID:215f9dc0-b914-11ed-bb44-0a25e2230b41
DTSTAMP:20230302T160602Z
SUMMARY:After-school club - crocheting (2:30-4:30)
URL;VALUE=URI:https://www.hunterdonprep.org/calendar/3805412/after-school-c
 lub-crocheting-2-30-4-30
DTSTART:20230314T183000Z
DTEND:20230314T203000Z
END:VEVENT
END:VCALENDAR
