BEGIN:VCALENDAR
VERSION:2.0
PRODID:SchoolNow
CALSCALE:GREGORIAN
BEGIN:VEVENT
UID:0f723d20-b914-11ed-aa81-0a25e2230b41
DTSTAMP:20230302T160532Z
SUMMARY:After-school club - musical madness (2:30-4:30)
URL;VALUE=URI:https://www.hunterdonprep.org/calendar/3805411/after-school-c
 lub-musical-madness-2-30-4-30
DTSTART:20230307T193000Z
DTEND:20230307T213000Z
END:VEVENT
END:VCALENDAR
