BEGIN:VCALENDAR
VERSION:2.0
PRODID:SchoolNow
CALSCALE:GREGORIAN
BEGIN:VEVENT
UID:6cc974ce-b451-11ed-8986-0e66e0cbf635
DTSTAMP:20230224T144212Z
SUMMARY:Draw Big (4th & 5th periods)
URL;VALUE=URI:https://www.hunterdonprep.org/calendar/3775719/draw-big-4th-5
 th-periods
DTSTART:20230322T150500Z
DTEND:20230322T162500Z
END:VEVENT
END:VCALENDAR
