BEGIN:VCALENDAR
VERSION:2.0
PRODID:SchoolNow
CALSCALE:GREGORIAN
BEGIN:VEVENT
UID:54ceec6e-b2d0-11ed-a773-0e9177b02dc5
DTSTAMP:20230601T124144Z
SUMMARY:End of year picnic
URL;VALUE=URI:https://www.hunterdonprep.org/calendar/3767143/end-of-year-pi
 cnic
DTSTART:20230606T130000Z
DTEND:20230606T180000Z
END:VEVENT
END:VCALENDAR
