BEGIN:VCALENDAR
VERSION:2.0
PRODID:SchoolNow
CALSCALE:GREGORIAN
BEGIN:VEVENT
UID:4263b046-b2d0-11ed-8d8b-0e9177b02dc5
DTSTAMP:20230524T154506Z
SUMMARY:End of year concert (1:00 & 6:30 PM)
URL;VALUE=URI:https://www.hunterdonprep.org/calendar/3767142/end-of-year-co
 ncert-1-00-7-00-pm
DTSTART:20230524T170000Z
DTEND:20230524T180000Z
END:VEVENT
END:VCALENDAR
