BEGIN:VCALENDAR
VERSION:2.0
PRODID:SchoolNow
CALSCALE:GREGORIAN
BEGIN:VEVENT
UID:00036a06-a700-11ed-991f-0e5f83e1988b
DTSTAMP:20230207T155636Z
SUMMARY:Valentine's Day concert rehearsal (2:30-6:30)
URL;VALUE=URI:https://www.hunterdonprep.org/calendar/3724408/valentines-day
 -concert-rehearsal-2-30-6-30
DTSTART:20230221T193000Z
DTEND:20230221T233000Z
END:VEVENT
END:VCALENDAR
