BEGIN:VCALENDAR
VERSION:2.0
PRODID:SchoolNow
CALSCALE:GREGORIAN
BEGIN:VEVENT
UID:e857503e-a6ff-11ed-82bc-0e5f83e1988b
DTSTAMP:20230207T155556Z
SUMMARY:Literary Lounge: Love\, Fate & Friendship (1:05-2:25)
URL;VALUE=URI:https://www.hunterdonprep.org/calendar/3724407/literary-loung
 e-love-fate-friendship-1-05-2-25
DTSTART:20230224T180500Z
DTEND:20230224T192500Z
END:VEVENT
END:VCALENDAR
