BEGIN:VCALENDAR
VERSION:2.0
PRODID:SchoolNow
CALSCALE:GREGORIAN
BEGIN:VEVENT
UID:759a17d8-9e72-11ed-a574-0e3d64282d1d
DTSTAMP:20230127T184336Z
SUMMARY:Junior & Senior Prom (6-10 PM)
URL;VALUE=URI:https://www.hunterdonprep.org/calendar/3695655/junior-senior-
 prom
DTSTART:20230602T220000Z
DTEND:20230603T020000Z
END:VEVENT
END:VCALENDAR
