BEGIN:VCALENDAR
VERSION:2.0
PRODID:SchoolNow
CALSCALE:GREGORIAN
BEGIN:VEVENT
UID:f4fd679c-9e71-11ed-b97d-0e3d64282d1d
DTSTAMP:20230127T183939Z
SUMMARY:NJGPA testing for 11th graders begins (3/13-3/17)
URL;VALUE=URI:https://www.hunterdonprep.org/calendar/3695650/njgpa-testing-
 for-11th-graders-begins-3-13-3-17
DTSTART:20230313T130000Z
DTEND:20230317T140000Z
END:VEVENT
END:VCALENDAR
