BEGIN:VCALENDAR
VERSION:2.0
PRODID:SchoolNow
CALSCALE:GREGORIAN
BEGIN:VEVENT
UID:9fc8c3e8-9e71-11ed-ac28-0e3d64282d1d
DTSTAMP:20230127T183729Z
SUMMARY:Hive breakfast sale
URL;VALUE=URI:https://www.hunterdonprep.org/calendar/3695649/hive-breakfast
 -sale
DTSTART:20230209T173000Z
DTEND:20230209T183000Z
END:VEVENT
END:VCALENDAR
