BEGIN:VCALENDAR
VERSION:2.0
PRODID:SchoolNow
CALSCALE:GREGORIAN
BEGIN:VEVENT
UID:ec23ed30-934f-11ed-96fc-0a9156b4e231
DTSTAMP:20230113T143819Z
SUMMARY:Valentine's Day concert
URL;VALUE=URI:https://www.hunterdonprep.org/calendar/3667116/valentines-day
 -concert
DTSTART:20230222T060500Z
DTEND:20230222T072500Z
END:VEVENT
END:VCALENDAR
