BEGIN:VCALENDAR
VERSION:2.0
PRODID:SchoolNow
CALSCALE:GREGORIAN
BEGIN:VEVENT
UID:d874864e-9108-11ed-95a1-0e12fd5b302b
DTSTAMP:20230110T170429Z
SUMMARY:After-school club (indoor games) (2:30-4:30)
URL;VALUE=URI:https://www.hunterdonprep.org/calendar/3662637/after-school-c
 lub-indoor-games-2-30-4-30
DTSTART:20230228T193000Z
DTEND:20230228T213000Z
END:VEVENT
END:VCALENDAR
