BEGIN:VCALENDAR
VERSION:2.0
PRODID:SchoolNow
CALSCALE:GREGORIAN
BEGIN:VEVENT
UID:a11501ce-9108-11ed-aa13-0e12fd5b302b
DTSTAMP:20230110T170256Z
SUMMARY:After-school club (slime) (2:30-4:30)
URL;VALUE=URI:https://www.hunterdonprep.org/calendar/3662634/after-school-c
 lub-slime-2-30-4-30
DTSTART:20230124T193000Z
DTEND:20230124T213000Z
END:VEVENT
END:VCALENDAR
